BEGIN:VCALENDAR
VERSION:2.0
PRODID:-//Department of Theoretical Physics - ECPv6.5.1.5//NONSGML v1.0//EN
CALSCALE:GREGORIAN
METHOD:PUBLISH
X-WR-CALNAME:Department of Theoretical Physics
X-ORIGINAL-URL:https://web-f1.ijs.si
X-WR-CALDESC:Events for Department of Theoretical Physics
REFRESH-INTERVAL;VALUE=DURATION:PT1H
X-Robots-Tag:noindex
X-PUBLISHED-TTL:PT1H
BEGIN:VTIMEZONE
TZID:Europe/Ljubljana
BEGIN:DAYLIGHT
TZOFFSETFROM:+0100
TZOFFSETTO:+0200
TZNAME:CEST
DTSTART:20230326T010000
END:DAYLIGHT
BEGIN:STANDARD
TZOFFSETFROM:+0200
TZOFFSETTO:+0100
TZNAME:CET
DTSTART:20231029T010000
END:STANDARD
END:VTIMEZONE
BEGIN:VEVENT
DTSTART;TZID=Europe/Ljubljana:20230606T140000
DTEND;TZID=Europe/Ljubljana:20230606T150000
DTSTAMP:20260426T044755
CREATED:20230515T105656Z
LAST-MODIFIED:20230606T122044Z
UID:8606-1686060000-1686063600@web-f1.ijs.si
SUMMARY:Tanmoy Sarkar: "Graph vertex model"
DESCRIPTION:I will present a new approach to studying epithelial mechanics\, which is based on representing the tissue structure by a graph. Additionally\, I will demonstrate the implementation of this approach within a custom computational framework\, neoVM.\nhttps://indico.ijs.si/event/1645/
URL:https://web-f1.ijs.si/event/tanmoy-sarkar-tba/
LOCATION:Z9/0-0 – F1 čajnica (Jamova)
END:VEVENT
END:VCALENDAR