BEGIN:VCALENDAR
VERSION:2.0
PRODID:-//Department of Theoretical Physics - ECPv6.5.1.5//NONSGML v1.0//EN
CALSCALE:GREGORIAN
METHOD:PUBLISH
X-WR-CALNAME:Department of Theoretical Physics
X-ORIGINAL-URL:https://web-f1.ijs.si
X-WR-CALDESC:Events for Department of Theoretical Physics
REFRESH-INTERVAL;VALUE=DURATION:PT1H
X-Robots-Tag:noindex
X-PUBLISHED-TTL:PT1H
BEGIN:VTIMEZONE
TZID:Europe/Ljubljana
BEGIN:DAYLIGHT
TZOFFSETFROM:+0100
TZOFFSETTO:+0200
TZNAME:CEST
DTSTART:20230326T010000
END:DAYLIGHT
BEGIN:STANDARD
TZOFFSETFROM:+0200
TZOFFSETTO:+0100
TZNAME:CET
DTSTART:20231029T010000
END:STANDARD
END:VTIMEZONE
BEGIN:VEVENT
DTSTART;TZID=Europe/Ljubljana:20230615T140000
DTEND;TZID=Europe/Ljubljana:20230615T150000
DTSTAMP:20260426T044754
CREATED:20230515T105656Z
LAST-MODIFIED:20230615T115609Z
UID:8608-1686837600-1686841200@web-f1.ijs.si
SUMMARY:Biophysics Journal Club: Veronika Bukina\, "Mexican jumping beans exhibit diffusive motion"
DESCRIPTION:American physicists investigated the statistical properties of the movements of Mexican jumping beans (the so-called boxes of Sebastiania pavoniana\, which set the larvae of the leaflet growing in them in motion) in the absence of a temperature gradient. It turned out that in this case the motion is well described by the random walk model. The authors showed that such a strategy is more successful in finding the shadow than blind directional movement.\nhttps://indico.ijs.si/event/1643/
URL:https://web-f1.ijs.si/event/veronika-bukina-tba/
LOCATION:Seminar room of physics (106) (IJS)
END:VEVENT
BEGIN:VEVENT
DTSTART;TZID=Europe/Ljubljana:20230615T140000
DTEND;TZID=Europe/Ljubljana:20230615T150000
DTSTAMP:20260426T044754
CREATED:20230524T134740Z
LAST-MODIFIED:20230615T125117Z
UID:9073-1686837600-1686841200@web-f1.ijs.si
SUMMARY:Santiago Tanco: Exploring unsupervised top tagging using Bayesian inference
DESCRIPTION:Identifying hadronically decaying top-quark jets in a sample of jets is an important task in many LHC searches. Although there are outstanding supervised algorithms\, their construction and expected performance rely on Monte Carlo simulations. After introducing the general framework of Bayesian inference over mixture models\, I will present some results on the development of two simple unsupervised top tagging algorithms based on these techniques. \nhttps://indico.ijs.si/event/1691/
URL:https://web-f1.ijs.si/event/santiago-tanco-exploring-unsupervised-top-tagging-using-bayesian-inference/
LOCATION:https://zoom.us/j/3601731049?pwd=bVNQRjUxU2ExZ0cveWcxYXNUUGdjZz09 (F1 tea room)
END:VEVENT
END:VCALENDAR