BEGIN:VCALENDAR
VERSION:2.0
PRODID:-//Department of Theoretical Physics - ECPv6.5.1.5//NONSGML v1.0//EN
CALSCALE:GREGORIAN
METHOD:PUBLISH
X-WR-CALNAME:Department of Theoretical Physics
X-ORIGINAL-URL:https://web-f1.ijs.si
X-WR-CALDESC:Events for Department of Theoretical Physics
REFRESH-INTERVAL;VALUE=DURATION:PT1H
X-Robots-Tag:noindex
X-PUBLISHED-TTL:PT1H
BEGIN:VTIMEZONE
TZID:Europe/Ljubljana
BEGIN:DAYLIGHT
TZOFFSETFROM:+0100
TZOFFSETTO:+0200
TZNAME:CEST
DTSTART:20230326T010000
END:DAYLIGHT
BEGIN:STANDARD
TZOFFSETFROM:+0200
TZOFFSETTO:+0100
TZNAME:CET
DTSTART:20231029T010000
END:STANDARD
END:VTIMEZONE
BEGIN:VEVENT
DTSTART;TZID=Europe/Ljubljana:20230720T140000
DTEND;TZID=Europe/Ljubljana:20230720T150000
DTSTAMP:20260425T222944
CREATED:20230628T114724Z
LAST-MODIFIED:20230720T095247Z
UID:10815-1689861600-1689865200@web-f1.ijs.si
SUMMARY:Emanuel Schneck: "Investigating Biomembrane Models at Fluid Interfaces—from Bacteria Surfaces to Glycolipid Domains to RNA delivery"
DESCRIPTION:Biological membranes based on lipid bilayers are major components of all living organisms\, but lipid layers are also used in many biomedical applications. We use biomembrane models in the form of lipid mono- and bilayers at water/air and water/oil interfaces in order to investigate various biological and biotechnologically relevant phenomena involving lipid layers. These experimental models are comprehensively characterized with numerous surface-sensitive techniques\, notably x-ray and neutron scattering/reflectometry and x-ray fluorescence\, as well as molecular dynamics simulations. The talk will cover examples from our recent activities\, including the conformation of wild-type bacterial lipopolysaccharide layers \, the formation of glycolipid-enriched ordered lipid domains \, the characteristics of lipid bilayers adsorbed to functionalized fluid interfaces \, and the pH-dependent charge and structural properties of transfection lipid layers for RNA delivery. S. Micciulla\, Y. Gerelli\, E. Schneck; Biophysical Journal\, 2019\, 116\, 1259. T. Mukhina\, G. Brezesinski\, C. Shen\, E. Schneck; J. Colloid Interf. Sci.\, 2022\, 615\, 786. J. Pusterla\, E. Scoppola\, C. Appel\, T. Mukhina\, C. Shen\, G. Brezesinski\, E. Schneck; Nanoscale 2022\, 14\, 15048.\nhttps://indico.ijs.si/event/1701/
URL:https://web-f1.ijs.si/event/emanuel-schneck-tba/
LOCATION:C/0-106 – Seminarska soba fizike (F5) (Jamova)
END:VEVENT
END:VCALENDAR