BEGIN:VCALENDAR
VERSION:2.0
PRODID:-//Department of Theoretical Physics - ECPv6.5.1.5//NONSGML v1.0//EN
CALSCALE:GREGORIAN
METHOD:PUBLISH
X-WR-CALNAME:Department of Theoretical Physics
X-ORIGINAL-URL:https://web-f1.ijs.si
X-WR-CALDESC:Events for Department of Theoretical Physics
REFRESH-INTERVAL;VALUE=DURATION:PT1H
X-Robots-Tag:noindex
X-PUBLISHED-TTL:PT1H
BEGIN:VTIMEZONE
TZID:Europe/Ljubljana
BEGIN:DAYLIGHT
TZOFFSETFROM:+0100
TZOFFSETTO:+0200
TZNAME:CEST
DTSTART:20230326T010000
END:DAYLIGHT
BEGIN:STANDARD
TZOFFSETFROM:+0200
TZOFFSETTO:+0100
TZNAME:CET
DTSTART:20231029T010000
END:STANDARD
END:VTIMEZONE
BEGIN:VEVENT
DTSTART;TZID=Europe/Ljubljana:20230810T110000
DTEND;TZID=Europe/Ljubljana:20230810T120000
DTSTAMP:20260425T142549
CREATED:20230807T094022Z
LAST-MODIFIED:20230810T093938Z
UID:12889-1691665200-1691668800@web-f1.ijs.si
SUMMARY:Prospecting for new physics using muons
DESCRIPTION:Speakers: Jure Zupan (University of Cincinnati)\nhttps://zoom.us/j/3601731049?pwd=bVNQRjUxU2ExZ0cveWcxYXNUUGdjZz09\nhttps://indico.ijs.si/event/1723/
URL:https://web-f1.ijs.si/event/prospecting-for-new-physics-using-muons/
LOCATION:Z9/0-0 – F1 čajnica (Jamova)
END:VEVENT
END:VCALENDAR