BEGIN:VCALENDAR
VERSION:2.0
PRODID:-//Department of Theoretical Physics - ECPv6.5.1.5//NONSGML v1.0//EN
CALSCALE:GREGORIAN
METHOD:PUBLISH
X-ORIGINAL-URL:https://web-f1.ijs.si
X-WR-CALDESC:Events for Department of Theoretical Physics
REFRESH-INTERVAL;VALUE=DURATION:PT1H
X-Robots-Tag:noindex
X-PUBLISHED-TTL:PT1H
BEGIN:VTIMEZONE
TZID:Europe/Ljubljana
BEGIN:DAYLIGHT
TZOFFSETFROM:+0100
TZOFFSETTO:+0200
TZNAME:CEST
DTSTART:20240331T010000
END:DAYLIGHT
BEGIN:STANDARD
TZOFFSETFROM:+0200
TZOFFSETTO:+0100
TZNAME:CET
DTSTART:20241027T010000
END:STANDARD
END:VTIMEZONE
BEGIN:VEVENT
DTSTART;TZID=Europe/Ljubljana:20240201T140000
DTEND;TZID=Europe/Ljubljana:20240201T150000
DTSTAMP:20260425T020619
CREATED:20240103T100856Z
LAST-MODIFIED:20240201T132455Z
UID:18635-1706796000-1706799600@web-f1.ijs.si
SUMMARY:Fran Ivan Vrban\, "Many-body effects in microgel suspensions"
DESCRIPTION:Even though there are clear indications of many-body interactions in the dense microgel suspensions\, there is still no adequate general description of the phenomena. One possible avenue for exploration of many-body effects is the coarse-grained liquid-drop model\, where the soft matter constituents are regarded as compressible drops with a well-defined surface. The interplay between particle’s bulk and surface energy plays the key role in the system characterization\, along with the geometry constraints. In this seminar\, the general overview of the many-body interactions in field will be presented\, as well as the relevant techniques and results of the liquid-drop model.\nhttps://indico.ijs.si/event/1956/
URL:https://web-f1.ijs.si/event/fran-ivan-vrban-tba/
LOCATION:C/0-106 – Seminarska soba fizike (F5) (Jamova)
END:VEVENT
END:VCALENDAR