BEGIN:VCALENDAR
VERSION:2.0
PRODID:-//Department of Theoretical Physics - ECPv6.5.1.5//NONSGML v1.0//EN
CALSCALE:GREGORIAN
METHOD:PUBLISH
X-WR-CALNAME:Department of Theoretical Physics
X-ORIGINAL-URL:https://web-f1.ijs.si
X-WR-CALDESC:Events for Department of Theoretical Physics
REFRESH-INTERVAL;VALUE=DURATION:PT1H
X-Robots-Tag:noindex
X-PUBLISHED-TTL:PT1H
BEGIN:VTIMEZONE
TZID:Europe/Ljubljana
BEGIN:DAYLIGHT
TZOFFSETFROM:+0100
TZOFFSETTO:+0200
TZNAME:CEST
DTSTART:20240331T010000
END:DAYLIGHT
BEGIN:STANDARD
TZOFFSETFROM:+0200
TZOFFSETTO:+0100
TZNAME:CET
DTSTART:20241027T010000
END:STANDARD
END:VTIMEZONE
BEGIN:VEVENT
DTSTART;TZID=Europe/Ljubljana:20240902T140000
DTEND;TZID=Europe/Ljubljana:20240902T150000
DTSTAMP:20260423T184152
CREATED:20240819T122059Z
LAST-MODIFIED:20240902T125507Z
UID:35397-1725285600-1725289200@web-f1.ijs.si
SUMMARY:Jan Rozman\, "From Substrate Dissipation to Internal Dissipation Vertex Model Dynamics: Generating Sustained Flows"
DESCRIPTION:Speakers: Jan Rozman\nComplex tissue flows in epithelia are driven by intra- and inter-cellular processes that generate\, maintain\, and coordinate mechanical forces. There has been growing evidence that cell shape anisotropy\, manifested as nematic order\, plays an important role in this process.  Here we extend an active nematic vertex model by replacing substrate friction with internal viscous dissipation\, dominant in epithelia not supported by a substrate or the extracellular matrix\, which are found in many early-stage embryos.  When coupled to cell shape anisotropy\, the internal viscous dissipation allows for long-range velocity correlations and thus enables the spontaneous emergence of flows with a large degree of spatiotemporal organisation. We demonstrate sustained flow in epithelial sheets confined to a channel\, providing a link between the cell-level vertex model of tissue dynamics and continuum active nematics\, whose behaviour in a channel is theoretically understood and experimentally realisable. Our findings also show a simple mechanism that could account for collective cell migration correlated over distances large compared to the cell size\, as observed during morphogenesis.\nhttps://indico.ijs.si/event/2245/
URL:https://web-f1.ijs.si/event/jan-rozman-tba/
LOCATION:C/2-X – F1 čajnica (Jamova)
END:VEVENT
END:VCALENDAR