BEGIN:VCALENDAR
VERSION:2.0
PRODID:-//Department of Theoretical Physics - ECPv6.5.1.5//NONSGML v1.0//EN
CALSCALE:GREGORIAN
METHOD:PUBLISH
X-ORIGINAL-URL:https://web-f1.ijs.si
X-WR-CALDESC:Events for Department of Theoretical Physics
REFRESH-INTERVAL;VALUE=DURATION:PT1H
X-Robots-Tag:noindex
X-PUBLISHED-TTL:PT1H
BEGIN:VTIMEZONE
TZID:Europe/Ljubljana
BEGIN:DAYLIGHT
TZOFFSETFROM:+0100
TZOFFSETTO:+0200
TZNAME:CEST
DTSTART:20240331T010000
END:DAYLIGHT
BEGIN:STANDARD
TZOFFSETFROM:+0200
TZOFFSETTO:+0100
TZNAME:CET
DTSTART:20241027T010000
END:STANDARD
END:VTIMEZONE
BEGIN:VEVENT
DTSTART;TZID=Europe/Ljubljana:20241114T140000
DTEND;TZID=Europe/Ljubljana:20241114T150000
DTSTAMP:20260423T161607
CREATED:20241002T103208Z
LAST-MODIFIED:20241114T135011Z
UID:39532-1731592800-1731596400@web-f1.ijs.si
SUMMARY:Fabio Staniscia\, "Nanoconfined fluids"
DESCRIPTION:https://indico.ijs.si/event/2337/
URL:https://web-f1.ijs.si/event/matej-kanduc-stability-of-foams/
LOCATION:A/1-106 – Seminarska soba fizike (F5) (Jamova)
END:VEVENT
BEGIN:VEVENT
DTSTART;TZID=Europe/Ljubljana:20241114T153000
DTEND;TZID=Europe/Ljubljana:20241114T163000
DTSTAMP:20260423T161607
CREATED:20240910T123012Z
LAST-MODIFIED:20241114T150218Z
UID:37296-1731598200-1731601800@web-f1.ijs.si
SUMMARY:Yannick Dengler: Scattering of dark pions
DESCRIPTION:https://indico.ijs.si/event/2267/
URL:https://web-f1.ijs.si/event/yannick-dengler-scattering-of-dark-pions-2/
LOCATION:https://zoom.us/j/3601731049?pwd=bVNQRjUxU2ExZ0cveWcxYXNUUGdjZz09 (A/1-106 – Seminarska soba fizike (F5))
END:VEVENT
END:VCALENDAR