BEGIN:VCALENDAR
VERSION:2.0
PRODID:-//Department of Theoretical Physics - ECPv6.5.1.5//NONSGML v1.0//EN
CALSCALE:GREGORIAN
METHOD:PUBLISH
X-WR-CALNAME:Department of Theoretical Physics
X-ORIGINAL-URL:https://web-f1.ijs.si
X-WR-CALDESC:Events for Department of Theoretical Physics
REFRESH-INTERVAL;VALUE=DURATION:PT1H
X-Robots-Tag:noindex
X-PUBLISHED-TTL:PT1H
BEGIN:VTIMEZONE
TZID:Europe/Ljubljana
BEGIN:DAYLIGHT
TZOFFSETFROM:+0100
TZOFFSETTO:+0200
TZNAME:CEST
DTSTART:20240331T010000
END:DAYLIGHT
BEGIN:STANDARD
TZOFFSETFROM:+0200
TZOFFSETTO:+0100
TZNAME:CET
DTSTART:20241027T010000
END:STANDARD
END:VTIMEZONE
BEGIN:VEVENT
DTSTART;TZID=Europe/Ljubljana:20241120T110000
DTEND;TZID=Europe/Ljubljana:20241120T120000
DTSTAMP:20260423T161415
CREATED:20241013T095013Z
LAST-MODIFIED:20241108T065416Z
UID:40658-1732100400-1732104000@web-f1.ijs.si
SUMMARY:Miha Modic (TBA)
DESCRIPTION:https://indico.ijs.si/event/2462/
URL:https://web-f1.ijs.si/event/miha-modic-tba/
LOCATION:Seminar room of physics (106) (IJS)
END:VEVENT
END:VCALENDAR