BEGIN:VCALENDAR
VERSION:2.0
PRODID:-//Department of Theoretical Physics - ECPv6.5.1.5//NONSGML v1.0//EN
CALSCALE:GREGORIAN
METHOD:PUBLISH
X-ORIGINAL-URL:https://web-f1.ijs.si
X-WR-CALDESC:Events for Department of Theoretical Physics
REFRESH-INTERVAL;VALUE=DURATION:PT1H
X-Robots-Tag:noindex
X-PUBLISHED-TTL:PT1H
BEGIN:VTIMEZONE
TZID:Europe/Ljubljana
BEGIN:DAYLIGHT
TZOFFSETFROM:+0100
TZOFFSETTO:+0200
TZNAME:CEST
DTSTART:20250330T010000
END:DAYLIGHT
BEGIN:STANDARD
TZOFFSETFROM:+0200
TZOFFSETTO:+0100
TZNAME:CET
DTSTART:20251026T010000
END:STANDARD
END:VTIMEZONE
BEGIN:VEVENT
DTSTART;TZID=Europe/Ljubljana:20250220T141500
DTEND;TZID=Europe/Ljubljana:20250220T151500
DTSTAMP:20260423T115411
CREATED:20250220T104157Z
LAST-MODIFIED:20250220T135306Z
UID:52503-1740060900-1740064500@web-f1.ijs.si
SUMMARY:Matej Krajnc\, "Hybrid mechanical model of epithelia supported by substrate"
DESCRIPTION:https://indico.ijs.si/event/2778/
URL:https://web-f1.ijs.si/event/matej-krajnc-hybrid-mechanical-model-of-epithelia-supported-by-substrate/
LOCATION:A/1-106 – Seminarska soba fizike (F5) (Jamova)
END:VEVENT
BEGIN:VEVENT
DTSTART;TZID=Europe/Ljubljana:20250220T153000
DTEND;TZID=Europe/Ljubljana:20250220T163000
DTSTAMP:20260423T115411
CREATED:20241121T100738Z
LAST-MODIFIED:20250220T135305Z
UID:44364-1740065400-1740069000@web-f1.ijs.si
SUMMARY:Nicklas Ramberg: Unveiling Hidden Sectors with Gravitational Waves ("The Gravitational Wave Stairway")
DESCRIPTION:In this talk we explore the potential of gravitational wave (GW) observations to probe the structure of hidden sectors beyond the Standard Model (BSM).  We argue that the sequential decoupling of new degrees of freedom in these sectors can leave a distinctive imprint on the GW spectrum\, resembling a “stairway” pattern. We investigate how this signature can distinguish between different hidden sectors\, focusing on two benchmark scenarios: a dark QCD-like theory and a model with a Kaluza-Klein (KK) tower of states. We analyze the sensitivity of current and future GW detectors\, such as LISA and Einstein Telescope\, to these multi-step spectral features\, demonstrating the potential to uncover rich information about the particle content and dynamics of hidden sectors.\nhttps://indico.ijs.si/event/2500/
URL:https://web-f1.ijs.si/event/nicklas-ramberg/
LOCATION:https://zoom.us/j/3601731049?pwd=bVNQRjUxU2ExZ0cveWcxYXNUUGdjZz09 (A/1-106 – Seminarska soba fizike (F5))
END:VEVENT
END:VCALENDAR