BEGIN:VCALENDAR
VERSION:2.0
PRODID:-//Department of Theoretical Physics - ECPv6.5.1.5//NONSGML v1.0//EN
CALSCALE:GREGORIAN
METHOD:PUBLISH
X-ORIGINAL-URL:https://web-f1.ijs.si
X-WR-CALDESC:Events for Department of Theoretical Physics
REFRESH-INTERVAL;VALUE=DURATION:PT1H
X-Robots-Tag:noindex
X-PUBLISHED-TTL:PT1H
BEGIN:VTIMEZONE
TZID:Europe/Ljubljana
BEGIN:DAYLIGHT
TZOFFSETFROM:+0100
TZOFFSETTO:+0200
TZNAME:CEST
DTSTART:20250330T010000
END:DAYLIGHT
BEGIN:STANDARD
TZOFFSETFROM:+0200
TZOFFSETTO:+0100
TZNAME:CET
DTSTART:20251026T010000
END:STANDARD
END:VTIMEZONE
BEGIN:VEVENT
DTSTART;TZID=Europe/Ljubljana:20250320T141500
DTEND;TZID=Europe/Ljubljana:20250320T153000
DTSTAMP:20260423T091503
CREATED:20250220T104157Z
LAST-MODIFIED:20250320T142619Z
UID:52506-1742480100-1742484600@web-f1.ijs.si
SUMMARY:Petr Šulc\, "DNA and RNA nanotechnology: molecular computing\, therapeutics\, and the quest for the holy grail of self-assembly"
DESCRIPTION:The control over the self-assembly of complex structures is a long-standing challenge of biomimetic nanotechnology\, as the desired assembly pathway is often kinetically derailed by the formation of competing alternative structures or amorphous aggregates. The goal of inverse design problem is hence to find a set of blocks that reliably assemble in high yield into a target structure while avoiding kinetic traps and alternative competing states. We present here a framework called SAT-assembly\, which solves this problem by combination of multiscale molecular simulation\, graph theory\, and constrained optimization methods. While the general approach is abstract\, the proposed designs can be realized experimentally e.g. with building blocks made out of DNA or RNA strands. We then show how our models are used to guide experimental realization of highly coveted nanostructure shapes with applications ranging from therapeutic delivery to nanoscale templating\, including designs such as capsids\, diamond lattices\, 3D polycube assemblies\, and dynamic reconfigurable multifarious structures\, which can switch between multiple possible stable folds.\nhttps://indico.ijs.si/event/2744/
URL:https://web-f1.ijs.si/event/fran-ivan-vrban-tba-2/
LOCATION:A/1-106 – Seminarska soba fizike (F5) (Jamova)
END:VEVENT
END:VCALENDAR