BEGIN:VCALENDAR
VERSION:2.0
PRODID:-//Department of Theoretical Physics - ECPv6.5.1.5//NONSGML v1.0//EN
CALSCALE:GREGORIAN
METHOD:PUBLISH
X-ORIGINAL-URL:https://web-f1.ijs.si
X-WR-CALDESC:Events for Department of Theoretical Physics
REFRESH-INTERVAL;VALUE=DURATION:PT1H
X-Robots-Tag:noindex
X-PUBLISHED-TTL:PT1H
BEGIN:VTIMEZONE
TZID:Europe/Ljubljana
BEGIN:DAYLIGHT
TZOFFSETFROM:+0100
TZOFFSETTO:+0200
TZNAME:CEST
DTSTART:20250330T010000
END:DAYLIGHT
BEGIN:STANDARD
TZOFFSETFROM:+0200
TZOFFSETTO:+0100
TZNAME:CET
DTSTART:20251026T010000
END:STANDARD
END:VTIMEZONE
BEGIN:VEVENT
DTSTART;TZID=Europe/Ljubljana:20250409T121500
DTEND;TZID=Europe/Ljubljana:20250409T131500
DTSTAMP:20260423T104601
CREATED:20250326T093731Z
LAST-MODIFIED:20250409T102023Z
UID:55687-1744200900-1744204500@web-f1.ijs.si
SUMMARY:Stephane Jedele\, "Study of the KCNN4 channel involved in the pathological dehydration of red blood cells using molecular modeling approaches"
DESCRIPTION:KCNN4 is a calcium (Ca)-activated potassium (K+) channel translocating K+ ions across several cellular membranes and for which Ca2+ sensitivity is conferred by calmodulin (CaM). Until the main part of the protein structure bound to CaM has been resolved\, in silico studies had used homology models derived from the well characterized transmembrane domain of other K+ channels\, limiting the functional investigation to this particular region. Thus\, how the regulatory domains of KCNN4 communicate with each other and where the possible gates are located across the complete structure are still not well understood. My PhD work presents for the first time results obtained from an extensive investigation of full-length models of the channel in different conformational states and molecular contexts using all-atom molecular dynamics simulations and enhanced sampling methods. The results allow us to contextualize no less than 6 of the pathogenic mutations identified in the channel to date\, and provide a new basis for understanding the KCNN4 function.\nhttps://indico.ijs.si/event/2866/
URL:https://web-f1.ijs.si/event/stephane-jedele-study-of-the-kcnn4-channel-involved-in-the-pathological-dehydration-of-red-blood-cells-using-molecular-modeling-approaches/
LOCATION:C/2-X – F1 čajnica (Jamova)
END:VEVENT
END:VCALENDAR