BEGIN:VCALENDAR
VERSION:2.0
PRODID:-//Department of Theoretical Physics - ECPv6.5.1.5//NONSGML v1.0//EN
CALSCALE:GREGORIAN
METHOD:PUBLISH
X-WR-CALNAME:Department of Theoretical Physics
X-ORIGINAL-URL:https://web-f1.ijs.si
X-WR-CALDESC:Events for Department of Theoretical Physics
REFRESH-INTERVAL;VALUE=DURATION:PT1H
X-Robots-Tag:noindex
X-PUBLISHED-TTL:PT1H
BEGIN:VTIMEZONE
TZID:Europe/Ljubljana
BEGIN:DAYLIGHT
TZOFFSETFROM:+0100
TZOFFSETTO:+0200
TZNAME:CEST
DTSTART:20250330T010000
END:DAYLIGHT
BEGIN:STANDARD
TZOFFSETFROM:+0200
TZOFFSETTO:+0100
TZNAME:CET
DTSTART:20251026T010000
END:STANDARD
END:VTIMEZONE
BEGIN:VEVENT
DTSTART;TZID=Europe/Ljubljana:20250410T123000
DTEND;TZID=Europe/Ljubljana:20250410T133000
DTSTAMP:20260423T091436
CREATED:20250220T104157Z
LAST-MODIFIED:20250410T110900Z
UID:52507-1744288200-1744291800@web-f1.ijs.si
SUMMARY:Sascha Ollertz\, "Agent-based modelling of cell differentiation patterns in mouse blastocysts"
DESCRIPTION:Early embryonic development from zygote to blastocyst is a highly dynamic\, self-organised process in which stem cells undergo successive cell fate decisions and form a complex structure. Local patterns in the early and mid blastocyst stage resolve into global patterns in the late stage of the blastocyst . A first modelling approach\, based on cell division and signalling showed that the spatial cell fate patterns arising in the earlyand mid stage\, are compatible with signalling beyond the nearest neighbours . As a next step\, we expanded our existing mathematical\, agent-based model to incorporate the late stage by including cell sorting based on differential adhesion. The resulting model consists of cell division\, cell death\, physical interactions\, transcription and signalling between the cells. The model allows us to systematically investigate the influence of these mechanisms and their relative timing with respect to the formation of the global pattern in the late blastocyst stage.\n Fischer\, S. C.\, Corujo-Simon\, E.\, Lilao-Garzon\, J.\, Stelzer\, E. H. K.\, & Muñoz-Descalzo\, S. (2020). The transition from local to global patterns governs the differentiation of mouse blastocysts. PloS one\, 15(5)\, e0233030.\n Fischer\, S. C.\, Schardt\, S.\, Lilao-Garzón\, J.\, & Muñoz-Descalzo\, S. (2023). The salt-and-pepper pattern in mouse blastocysts is compatible with signaling beyond the nearest neighbors. In iScience (Vol. 26\, Issue 11\, p. 108106).\n Schardt\, S.\, & Fischer\, S. C. (2023). Adjusting the range of cell-cell communication enables fine-tuning of cell fate patterns from checkerboard to engulfing. Journal of mathematical biology\, 87(4)\, 54.\nhttps://indico.ijs.si/event/2746/
URL:https://web-f1.ijs.si/event/sascha-ollertz-tba/
LOCATION:C/2-X – F1 čajnica (Jamova)
END:VEVENT
END:VCALENDAR