BEGIN:VCALENDAR
VERSION:2.0
PRODID:-//Department of Theoretical Physics - ECPv6.5.1.5//NONSGML v1.0//EN
CALSCALE:GREGORIAN
METHOD:PUBLISH
X-WR-CALNAME:Department of Theoretical Physics
X-ORIGINAL-URL:https://web-f1.ijs.si
X-WR-CALDESC:Events for Department of Theoretical Physics
REFRESH-INTERVAL;VALUE=DURATION:PT1H
X-Robots-Tag:noindex
X-PUBLISHED-TTL:PT1H
BEGIN:VTIMEZONE
TZID:Europe/Ljubljana
BEGIN:DAYLIGHT
TZOFFSETFROM:+0100
TZOFFSETTO:+0200
TZNAME:CEST
DTSTART:20250330T010000
END:DAYLIGHT
BEGIN:STANDARD
TZOFFSETFROM:+0200
TZOFFSETTO:+0100
TZNAME:CET
DTSTART:20251026T010000
END:STANDARD
END:VTIMEZONE
BEGIN:VEVENT
DTSTART;TZID=Europe/Ljubljana:20250417T140000
DTEND;TZID=Europe/Ljubljana:20250417T150000
DTSTAMP:20260423T115257
CREATED:20250224T205015Z
LAST-MODIFIED:20250417T125137Z
UID:52935-1744898400-1744902000@web-f1.ijs.si
SUMMARY:Fran Ivan Vrban\, "Variational model shapes of deformable particles"
DESCRIPTION:https://indico.ijs.si/event/2782/
URL:https://web-f1.ijs.si/event/fran-ivan-vrban-tba-3/
LOCATION:A/1-106 – Seminarska soba fizike (F5) (Jamova)
END:VEVENT
BEGIN:VEVENT
DTSTART;TZID=Europe/Ljubljana:20250417T153000
DTEND;TZID=Europe/Ljubljana:20250417T163000
DTSTAMP:20260423T115257
CREATED:20250408T142851Z
LAST-MODIFIED:20250417T140610Z
UID:56983-1744903800-1744907400@web-f1.ijs.si
SUMMARY:Jonathan Kriewald: Lepton Number Violation at the LHC
DESCRIPTION:Numerous well-motivated extensions of the Standard Model\, notably models linked to the generation of neutrino masses and to searches for neutrinoless double-beta decay\, predict the existence of lepton-number-violating (LNV) processes. In particular\, the type II seesaw and the left-right symmetric model predict final states consisting of same-sign di-leptons with jets and/or the existence of long-lived heavy neutral leptons which could be detected at the LHC.\nIn this talk I will review current collider limits on such scenarios and estimate the corresponding future HL-LHC sensitivities for these models. I will show that these models predict observable signals across broad regions of parameter space\, whereas the LHC can indirectly probe New Physics scales as high as 70-80 TeV.\nhttps://indico.ijs.si/event/2903/
URL:https://web-f1.ijs.si/event/jonathan-kriewald/
LOCATION:https://zoom.us/j/3601731049?pwd=bVNQRjUxU2ExZ0cveWcxYXNUUGdjZz09 (A/1-106 – Seminarska soba fizike (F5))
END:VEVENT
END:VCALENDAR