BEGIN:VCALENDAR
VERSION:2.0
PRODID:-//Department of Theoretical Physics - ECPv6.5.1.5//NONSGML v1.0//EN
CALSCALE:GREGORIAN
METHOD:PUBLISH
X-WR-CALNAME:Department of Theoretical Physics
X-ORIGINAL-URL:https://web-f1.ijs.si
X-WR-CALDESC:Events for Department of Theoretical Physics
REFRESH-INTERVAL;VALUE=DURATION:PT1H
X-Robots-Tag:noindex
X-PUBLISHED-TTL:PT1H
BEGIN:VTIMEZONE
TZID:Europe/Ljubljana
BEGIN:DAYLIGHT
TZOFFSETFROM:+0100
TZOFFSETTO:+0200
TZNAME:CEST
DTSTART:20250330T010000
END:DAYLIGHT
BEGIN:STANDARD
TZOFFSETFROM:+0200
TZOFFSETTO:+0100
TZNAME:CET
DTSTART:20251026T010000
END:STANDARD
END:VTIMEZONE
BEGIN:VEVENT
DTSTART;TZID=Europe/Ljubljana:20250508T141500
DTEND;TZID=Europe/Ljubljana:20250508T151500
DTSTAMP:20260423T060112
CREATED:20250405T000101Z
LAST-MODIFIED:20250508T124927Z
UID:56616-1746713700-1746717300@web-f1.ijs.si
SUMMARY:Angelo Rosa\, "Configurational entropy of random trees"
DESCRIPTION:In this talk\, I will illustrate two recent results of our group concerning the statistical physics of branched polymers. In the first part\, I will present a graph theoretical approach to the configurational statistics of random tree-like objects\, which is based on Prüfer labelling. The method\, in particular\, provides: (i) direct access to the exact configurational entropy as a function of the tree composition\, (ii) computable exact expressions for partition functions and important experimental observables for tree ensembles with controlled branching activity and (iii) an efficient sampling scheme for corresponding tree configurations and arbitrary static properties. Then\, in the second part\, I will introduce a field-theoretic framework for branched polymers with excluded volume interactions. By solving the corresponding partition function by mean-field methods\, I will show that the theory is in semi-quantitative agreement with Monte-Carlo computer simulations.\nhttps://indico.ijs.si/event/2878/
URL:https://web-f1.ijs.si/event/angelo-rosa-tba/
LOCATION:Seminar room of physics (106) (IJS)
END:VEVENT
END:VCALENDAR