BEGIN:VCALENDAR
VERSION:2.0
PRODID:-//Department of Theoretical Physics - ECPv6.5.1.5//NONSGML v1.0//EN
CALSCALE:GREGORIAN
METHOD:PUBLISH
X-WR-CALNAME:Department of Theoretical Physics
X-ORIGINAL-URL:https://web-f1.ijs.si
X-WR-CALDESC:Events for Department of Theoretical Physics
REFRESH-INTERVAL;VALUE=DURATION:PT1H
X-Robots-Tag:noindex
X-PUBLISHED-TTL:PT1H
BEGIN:VTIMEZONE
TZID:Europe/Ljubljana
BEGIN:DAYLIGHT
TZOFFSETFROM:+0100
TZOFFSETTO:+0200
TZNAME:CEST
DTSTART:20250330T010000
END:DAYLIGHT
BEGIN:STANDARD
TZOFFSETFROM:+0200
TZOFFSETTO:+0100
TZNAME:CET
DTSTART:20251026T010000
END:STANDARD
END:VTIMEZONE
BEGIN:VEVENT
DTSTART;TZID=Europe/Ljubljana:20250520T153000
DTEND;TZID=Europe/Ljubljana:20250520T163000
DTSTAMP:20260423T060111
CREATED:20250506T123546Z
LAST-MODIFIED:20250520T141232Z
UID:59737-1747755000-1747758600@web-f1.ijs.si
SUMMARY:Marko Malezic: Toward Efficient Trotter-Suzuki Schemes for Long-Time Quantum Dynamics
DESCRIPTION:Accurately simulating long-time dynamics of quantum many-body systems—whether in real or imaginary time—is a challenge in both classical and quantum computing due to the accumulation of Trotter errors. While low-order Trotter-Suzuki decompositions are straightforward to implement\, their rapidly growing error limits access to long-time observables and ground state properties. I will present a framework for constructing efficient high-order Trotter-Suzuki schemes by identifying their structure and directly optimizing their parameters over a high-dimensional space. This method enables the discovery of new schemes with significantly improved efficiency compared to traditional constructions\, such as those by Suzuki and Yoshida. I will demonstrate the effectiveness of these decompositions on the Heisenberg XXZ model\, comparing their performance and presenting the newly discovered schemes. Finally\, I will discuss ongoing efforts to extend this framework to even higher orders and apply the derived schemes to quantum hardware\, pushing the boundaries of both theoretical advancements and practical quantum computing.\nhttps://indico.ijs.si/event/2921/
URL:https://web-f1.ijs.si/event/marko-malezic/
LOCATION:https://zoom.us/j/3601731049?pwd=bVNQRjUxU2ExZ0cveWcxYXNUUGdjZz09 (F1 tea room)
END:VEVENT
END:VCALENDAR