BEGIN:VCALENDAR
VERSION:2.0
PRODID:-//Department of Theoretical Physics - ECPv6.5.1.5//NONSGML v1.0//EN
CALSCALE:GREGORIAN
METHOD:PUBLISH
X-WR-CALNAME:Department of Theoretical Physics
X-ORIGINAL-URL:https://web-f1.ijs.si
X-WR-CALDESC:Events for Department of Theoretical Physics
REFRESH-INTERVAL;VALUE=DURATION:PT1H
X-Robots-Tag:noindex
X-PUBLISHED-TTL:PT1H
BEGIN:VTIMEZONE
TZID:Europe/Ljubljana
BEGIN:DAYLIGHT
TZOFFSETFROM:+0100
TZOFFSETTO:+0200
TZNAME:CEST
DTSTART:20250330T010000
END:DAYLIGHT
BEGIN:STANDARD
TZOFFSETFROM:+0200
TZOFFSETTO:+0100
TZNAME:CET
DTSTART:20251026T010000
END:STANDARD
END:VTIMEZONE
BEGIN:VEVENT
DTSTART;TZID=Europe/Ljubljana:20250703T110000
DTEND;TZID=Europe/Ljubljana:20250703T120000
DTSTAMP:20260423T010709
CREATED:20250701T123642Z
LAST-MODIFIED:20250703T093356Z
UID:65051-1751540400-1751544000@web-f1.ijs.si
SUMMARY:Martin Schmaltz: Hubble tension update
DESCRIPTION:This seminar will give an introduction to and status update of the Hubble tension\, the 6 sigma discrepancy between the two most precise methods for measuring the expansion rate of our Universe. The most promising resolutions of the tension employ “early” new physics to modify the sound horizon\, the standard ruler used in CMB and BAO based determinations of the expansion rate. A possibly related new piece of the puzzle might be the recent evidence for non-standard dark energy from the DESI experiment.\nhttps://indico.ijs.si/event/3014/
URL:https://web-f1.ijs.si/event/misha-gorshteyn-cabibbo-unitarity-anomaly-disappears/
LOCATION:https://www.youtube.com/@astroFMF/streams (F4 – FMF)
END:VEVENT
END:VCALENDAR