BEGIN:VCALENDAR
VERSION:2.0
PRODID:-//Department of Theoretical Physics - ECPv6.5.1.5//NONSGML v1.0//EN
CALSCALE:GREGORIAN
METHOD:PUBLISH
X-WR-CALNAME:Department of Theoretical Physics
X-ORIGINAL-URL:https://web-f1.ijs.si
X-WR-CALDESC:Events for Department of Theoretical Physics
REFRESH-INTERVAL;VALUE=DURATION:PT1H
X-Robots-Tag:noindex
X-PUBLISHED-TTL:PT1H
BEGIN:VTIMEZONE
TZID:Europe/Ljubljana
BEGIN:DAYLIGHT
TZOFFSETFROM:+0100
TZOFFSETTO:+0200
TZNAME:CEST
DTSTART:20250330T010000
END:DAYLIGHT
BEGIN:STANDARD
TZOFFSETFROM:+0200
TZOFFSETTO:+0100
TZNAME:CET
DTSTART:20251026T010000
END:STANDARD
END:VTIMEZONE
BEGIN:VEVENT
DTSTART;TZID=Europe/Ljubljana:20250710T110000
DTEND;TZID=Europe/Ljubljana:20250710T120000
DTSTAMP:20260423T010710
CREATED:20250701T130658Z
LAST-MODIFIED:20250710T093831Z
UID:65058-1752145200-1752148800@web-f1.ijs.si
SUMMARY:David Kaplan: Shadow Matter
DESCRIPTION:I will review how one gets classical physics from quantum theories.  Then I will show that there are quantum states of the field theories of general relativity and electromagnetism that we typically ignore\, but have interesting phenomenological effects.  These states amount to loosening the constraint equations in GR and EM.   Doing so in GR sources non-dynamical parts of the metric which mimic a pressureless dust\, with some odd features\, and thus these effects may be the explanation as to why we think there is dark matter.  The constraint in EM is Gauss’ Law\, and turning it off mimics a charge density that does not respond to electric forces\, but follows geodesics.   I will briefly discuss the cosmological consequences of these new fields and potential studies.\nhttps://indico.ijs.si/event/3015/
URL:https://web-f1.ijs.si/event/david-kaplan/
LOCATION:https://www.youtube.com/@astroFMF/streams (F2 – FMF)
END:VEVENT
BEGIN:VEVENT
DTSTART;TZID=Europe/Ljubljana:20250710T140000
DTEND;TZID=Europe/Ljubljana:20250710T150000
DTSTAMP:20260423T010710
CREATED:20250612T102050Z
LAST-MODIFIED:20250710T123702Z
UID:63356-1752156000-1752159600@web-f1.ijs.si
SUMMARY:Fabio Staniscia (TBA)
DESCRIPTION:https://indico.ijs.si/event/3006/
URL:https://web-f1.ijs.si/event/fabio-staniscia-tba-4/
LOCATION:A/1-106 – Seminarska soba fizike (F5) (Jamova)
END:VEVENT
END:VCALENDAR