BEGIN:VCALENDAR
VERSION:2.0
PRODID:-//Department of Theoretical Physics - ECPv6.5.1.5//NONSGML v1.0//EN
CALSCALE:GREGORIAN
METHOD:PUBLISH
X-WR-CALNAME:Department of Theoretical Physics
X-ORIGINAL-URL:https://web-f1.ijs.si
X-WR-CALDESC:Events for Department of Theoretical Physics
REFRESH-INTERVAL;VALUE=DURATION:PT1H
X-Robots-Tag:noindex
X-PUBLISHED-TTL:PT1H
BEGIN:VTIMEZONE
TZID:Europe/Ljubljana
BEGIN:DAYLIGHT
TZOFFSETFROM:+0100
TZOFFSETTO:+0200
TZNAME:CEST
DTSTART:20250330T010000
END:DAYLIGHT
BEGIN:STANDARD
TZOFFSETFROM:+0200
TZOFFSETTO:+0100
TZNAME:CET
DTSTART:20251026T010000
END:STANDARD
END:VTIMEZONE
BEGIN:VEVENT
DTSTART;TZID=Europe/Ljubljana:20251002T110000
DTEND;TZID=Europe/Ljubljana:20251002T120000
DTSTAMP:20260422T213144
CREATED:20250829T092814Z
LAST-MODIFIED:20251002T095738Z
UID:71007-1759402800-1759406400@web-f1.ijs.si
SUMMARY:Santiago Tanco: Bayesian tools for the LHC: a proof of concept in di-Higgs searches
DESCRIPTION:Extracting reliable physical information from collider data requires a combination of mathematical\, computational and statistical tools to model observed distributions\, often with the help of powerful simulations. But when simulations cannot be fully trusted\, data-driven approaches become indispensable. In this talk\, I will present Bayesian tools that provide a flexible\, data-driven method for unsupervised training on probabilistic models of collider observables\, highlighting their advantages for parameter inference and uncertainty estimation. I will illustrate these points in the context of pp > hh > bbbb searches\, where recent analyses use a variation of the widely used data-driven “ABCD method”. Within our framework\, the ABCD method can be generalized and improved\, especially when its assumptions are not exactly satisfied\, leading to more robust background subtraction. Our approach is able to exploit correlations in multi-dimensional data by modelling kinematic variables and b-tagging scores at the event level. These results also show a way in which simulations can be used as guides for unsupervised estimation of the true data distributions. Based on 2402.08001 and ongoing research.\nhttps://indico.ijs.si/event/3054/
URL:https://web-f1.ijs.si/event/santiago-tanco/
LOCATION:A/1-106 – Seminarska soba fizike (F5)
END:VEVENT
END:VCALENDAR