BEGIN:VCALENDAR
VERSION:2.0
PRODID:-//Department of Theoretical Physics - ECPv6.5.1.5//NONSGML v1.0//EN
CALSCALE:GREGORIAN
METHOD:PUBLISH
X-WR-CALNAME:Department of Theoretical Physics
X-ORIGINAL-URL:https://web-f1.ijs.si
X-WR-CALDESC:Events for Department of Theoretical Physics
REFRESH-INTERVAL;VALUE=DURATION:PT1H
X-Robots-Tag:noindex
X-PUBLISHED-TTL:PT1H
BEGIN:VTIMEZONE
TZID:Europe/Ljubljana
BEGIN:DAYLIGHT
TZOFFSETFROM:+0100
TZOFFSETTO:+0200
TZNAME:CEST
DTSTART:20250330T010000
END:DAYLIGHT
BEGIN:STANDARD
TZOFFSETFROM:+0200
TZOFFSETTO:+0100
TZNAME:CET
DTSTART:20251026T010000
END:STANDARD
END:VTIMEZONE
BEGIN:VEVENT
DTSTART;TZID=Europe/Ljubljana:20251006T150000
DTEND;TZID=Europe/Ljubljana:20251006T160000
DTSTAMP:20260422T173109
CREATED:20250930T111454Z
LAST-MODIFIED:20251006T134601Z
UID:74243-1759762800-1759766400@web-f1.ijs.si
SUMMARY:Bhabani Tripathy: doubly heavy tetraquarks
DESCRIPTION:Doubly heavy tetraquarks\nhttps://indico.ijs.si/event/3101/
URL:https://web-f1.ijs.si/event/bhabani-tripathy-doubly-heavy-tetraquarks/
LOCATION:F1 tea room
END:VEVENT
END:VCALENDAR