BEGIN:VCALENDAR
VERSION:2.0
PRODID:-//Department of Theoretical Physics - ECPv6.5.1.5//NONSGML v1.0//EN
CALSCALE:GREGORIAN
METHOD:PUBLISH
X-ORIGINAL-URL:https://web-f1.ijs.si
X-WR-CALDESC:Events for Department of Theoretical Physics
REFRESH-INTERVAL;VALUE=DURATION:PT1H
X-Robots-Tag:noindex
X-PUBLISHED-TTL:PT1H
BEGIN:VTIMEZONE
TZID:Europe/Ljubljana
BEGIN:DAYLIGHT
TZOFFSETFROM:+0100
TZOFFSETTO:+0200
TZNAME:CEST
DTSTART:20250330T010000
END:DAYLIGHT
BEGIN:STANDARD
TZOFFSETFROM:+0200
TZOFFSETTO:+0100
TZNAME:CET
DTSTART:20251026T010000
END:STANDARD
END:VTIMEZONE
BEGIN:VEVENT
DTSTART;TZID=Europe/Ljubljana:20251106T110000
DTEND;TZID=Europe/Ljubljana:20251106T120000
DTSTAMP:20260422T093318
CREATED:20251030T152731Z
LAST-MODIFIED:20251106T105808Z
UID:77313-1762426800-1762430400@web-f1.ijs.si
SUMMARY:Michele Tammaro: Transport equation for Ultra-High Energy neutrino events
DESCRIPTION:We develop a first-principles formalism\, based on the transport equation in the line-of-sight approximation\, to link the expected number of muons at neutrino telescopes to the flux of neutrinos at the Earth’s surface. We compute the distribution of muons inside Earth\, arising from the up-scattering of neutrinos close to the detector\, as well as from the decay of taus produced farther away. This framework allows a fast semi-analytical calculation of the expected number of events\, accounting for systematic uncertainties\, as well as clarifying the assumptions behind definitions commonly used in the literature. As a working case\, we apply this formalism to analyze the high-energy muon event recorded by KM3NeT\, with a reconstructed energy of approximately 120 PeV\, in comparison with the non-observation of similar events by IceCube. We derive the tension between the two experiments under different assumptions for the neutrino flux\, correcting previous results found in literature. Finally\, the formalism can be easily extended to include other type of events\, furthermore allowing one to treat potential beyond-the-Standard-Model sources of muons.\nhttps://indico.ijs.si/event/3286/
URL:https://web-f1.ijs.si/event/michele-tammaro-transport-equation-for-ultra-high-energy-neutrino-events/
LOCATION:F1 tea room
END:VEVENT
BEGIN:VEVENT
DTSTART;TZID=Europe/Ljubljana:20251106T140000
DTEND;TZID=Europe/Ljubljana:20251106T150000
DTSTAMP:20260422T093318
CREATED:20251002T094353Z
LAST-MODIFIED:20251106T134334Z
UID:74448-1762437600-1762441200@web-f1.ijs.si
SUMMARY:Lovro Lotrič\, "Effect of curvature on surface tension"
DESCRIPTION:https://indico.ijs.si/event/3104/
URL:https://web-f1.ijs.si/event/lovro-lotric-the-tolman-length/
LOCATION:C/2-X – F1 čajnica (Jamova)
END:VEVENT
END:VCALENDAR