BEGIN:VCALENDAR
VERSION:2.0
PRODID:-//Department of Theoretical Physics - ECPv6.5.1.5//NONSGML v1.0//EN
CALSCALE:GREGORIAN
METHOD:PUBLISH
X-ORIGINAL-URL:https://web-f1.ijs.si
X-WR-CALDESC:Events for Department of Theoretical Physics
REFRESH-INTERVAL;VALUE=DURATION:PT1H
X-Robots-Tag:noindex
X-PUBLISHED-TTL:PT1H
BEGIN:VTIMEZONE
TZID:Europe/Ljubljana
BEGIN:DAYLIGHT
TZOFFSETFROM:+0100
TZOFFSETTO:+0200
TZNAME:CEST
DTSTART:20250330T010000
END:DAYLIGHT
BEGIN:STANDARD
TZOFFSETFROM:+0200
TZOFFSETTO:+0100
TZNAME:CET
DTSTART:20251026T010000
END:STANDARD
END:VTIMEZONE
BEGIN:VEVENT
DTSTART;TZID=Europe/Ljubljana:20251113T140000
DTEND;TZID=Europe/Ljubljana:20251113T150000
DTSTAMP:20260422T140744
CREATED:20251002T094353Z
LAST-MODIFIED:20251112T165846Z
UID:74449-1763042400-1763046000@web-f1.ijs.si
SUMMARY:Vid Pograjc\, "Computational Chemistry of L-DOPA\, Phenol/Catechol\, and Ammonia: My Past Research"
DESCRIPTION:https://indico.ijs.si/event/3105/
URL:https://web-f1.ijs.si/event/jan-rozman-tba-2/
LOCATION:A/1-106 – Seminarska soba fizike (F5) (Jamova)
END:VEVENT
END:VCALENDAR