BEGIN:VCALENDAR
VERSION:2.0
PRODID:-//Department of Theoretical Physics - ECPv6.5.1.5//NONSGML v1.0//EN
CALSCALE:GREGORIAN
METHOD:PUBLISH
X-ORIGINAL-URL:https://web-f1.ijs.si
X-WR-CALDESC:Events for Department of Theoretical Physics
REFRESH-INTERVAL;VALUE=DURATION:PT1H
X-Robots-Tag:noindex
X-PUBLISHED-TTL:PT1H
BEGIN:VTIMEZONE
TZID:Europe/Ljubljana
BEGIN:DAYLIGHT
TZOFFSETFROM:+0100
TZOFFSETTO:+0200
TZNAME:CEST
DTSTART:20250330T010000
END:DAYLIGHT
BEGIN:STANDARD
TZOFFSETFROM:+0200
TZOFFSETTO:+0100
TZNAME:CET
DTSTART:20251026T010000
END:STANDARD
END:VTIMEZONE
BEGIN:VEVENT
DTSTART;TZID=Europe/Ljubljana:20251204T140000
DTEND;TZID=Europe/Ljubljana:20251204T150000
DTSTAMP:20260422T063431
CREATED:20251103T092730Z
LAST-MODIFIED:20251204T133407Z
UID:77684-1764856800-1764860400@web-f1.ijs.si
SUMMARY:Jan Rozman\, "Multi-Phase Field Tissue Modelling: Fluidisation\, Internal Dissipation\, and Hole Formation"
DESCRIPTION:https://indico.ijs.si/event/3288/
URL:https://web-f1.ijs.si/event/jan-rozman-tba-3/
LOCATION:C/2-X – F1 čajnica (Jamova)
END:VEVENT
END:VCALENDAR