BEGIN:VCALENDAR
VERSION:2.0
PRODID:-//Department of Theoretical Physics - ECPv6.5.1.5//NONSGML v1.0//EN
CALSCALE:GREGORIAN
METHOD:PUBLISH
X-ORIGINAL-URL:https://web-f1.ijs.si
X-WR-CALDESC:Events for Department of Theoretical Physics
REFRESH-INTERVAL;VALUE=DURATION:PT1H
X-Robots-Tag:noindex
X-PUBLISHED-TTL:PT1H
BEGIN:VTIMEZONE
TZID:Europe/Ljubljana
BEGIN:DAYLIGHT
TZOFFSETFROM:+0100
TZOFFSETTO:+0200
TZNAME:CEST
DTSTART:20250330T010000
END:DAYLIGHT
BEGIN:STANDARD
TZOFFSETFROM:+0200
TZOFFSETTO:+0100
TZNAME:CET
DTSTART:20251026T010000
END:STANDARD
END:VTIMEZONE
BEGIN:VEVENT
DTSTART;TZID=Europe/Ljubljana:20251211T110000
DTEND;TZID=Europe/Ljubljana:20251211T120000
DTSTAMP:20260422T063431
CREATED:20250918T112754Z
LAST-MODIFIED:20251211T104310Z
UID:73033-1765450800-1765454400@web-f1.ijs.si
SUMMARY:Anders Eller Thomsen: Functional EFT Methods: New Developments and the Matchete Tool
DESCRIPTION:With the absence of new resonance discoveries at the LHC\, the role of Effective Field Theories (EFTs) in Beyond the Standard Model (BSM) physics has become increasingly crucial. EFTs serve as indispensable tools in precision physics\, offering the potential to reveal indirect evidence of new phenomena. Matching calculations can bridge the gap between underlying theories and EFTs and should ideally be performed at the loop level to include all relevant effects. In this talk\, I will discuss functional methods as an avenue to perform cutting-edge matching and RG calculations. From a practical perspective these methods form the foundation of the public automated matching tool Matchete\, and I will outline some of its core functionality.\nhttps://indico.ijs.si/event/3080/
URL:https://web-f1.ijs.si/event/anders-eller-thomsen/
LOCATION:A/1-106 – Seminarska soba fizike (F5)
END:VEVENT
END:VCALENDAR