BEGIN:VCALENDAR
VERSION:2.0
PRODID:-//Department of Theoretical Physics - ECPv6.5.1.5//NONSGML v1.0//EN
CALSCALE:GREGORIAN
METHOD:PUBLISH
X-ORIGINAL-URL:https://web-f1.ijs.si
X-WR-CALDESC:Events for Department of Theoretical Physics
REFRESH-INTERVAL;VALUE=DURATION:PT1H
X-Robots-Tag:noindex
X-PUBLISHED-TTL:PT1H
BEGIN:VTIMEZONE
TZID:Europe/Ljubljana
BEGIN:DAYLIGHT
TZOFFSETFROM:+0100
TZOFFSETTO:+0200
TZNAME:CEST
DTSTART:20250330T010000
END:DAYLIGHT
BEGIN:STANDARD
TZOFFSETFROM:+0200
TZOFFSETTO:+0100
TZNAME:CET
DTSTART:20251026T010000
END:STANDARD
END:VTIMEZONE
BEGIN:VEVENT
DTSTART;TZID=Europe/Ljubljana:20251212T110000
DTEND;TZID=Europe/Ljubljana:20251212T120000
DTSTAMP:20260422T063431
CREATED:20251106T144334Z
LAST-MODIFIED:20251212T101351Z
UID:78028-1765537200-1765540800@web-f1.ijs.si
SUMMARY:Kristjan Muursepp: Baryogenesis from bubble collisions
DESCRIPTION:In this talk I will consider models connecting baryogenesis with first order phase transition. In particular\, I will elaborate on scenarios where the required amount of CP-violation originates from the production of heavy particles after scalar shells interpolating between true and false vacuum collide. I will focus on the case when both heavy particles are produced on-shell as well as the opposite regime when one of the heavy particles is produced off-shell\, subsequently decaying to light Standard Model states. I will elaborate on the phenomenological implications of both scenarios.\nhttps://indico.ijs.si/event/3291/
URL:https://web-f1.ijs.si/event/kristjan-muursepp-baryogenesis-from-bubble-collisions/
LOCATION:F1 tea room
END:VEVENT
END:VCALENDAR