BEGIN:VCALENDAR
VERSION:2.0
PRODID:-//Department of Theoretical Physics - ECPv6.5.1.5//NONSGML v1.0//EN
CALSCALE:GREGORIAN
METHOD:PUBLISH
X-ORIGINAL-URL:https://web-f1.ijs.si
X-WR-CALDESC:Events for Department of Theoretical Physics
REFRESH-INTERVAL;VALUE=DURATION:PT1H
X-Robots-Tag:noindex
X-PUBLISHED-TTL:PT1H
BEGIN:VTIMEZONE
TZID:Europe/Ljubljana
BEGIN:DAYLIGHT
TZOFFSETFROM:+0100
TZOFFSETTO:+0200
TZNAME:CEST
DTSTART:20260329T010000
END:DAYLIGHT
BEGIN:STANDARD
TZOFFSETFROM:+0200
TZOFFSETTO:+0100
TZNAME:CET
DTSTART:20261025T010000
END:STANDARD
END:VTIMEZONE
BEGIN:VEVENT
DTSTART;TZID=Europe/Ljubljana:20260115T140000
DTEND;TZID=Europe/Ljubljana:20260115T150000
DTSTAMP:20260422T050013
CREATED:20251002T094354Z
LAST-MODIFIED:20260115T133207Z
UID:74451-1768485600-1768489200@web-f1.ijs.si
SUMMARY:Anže Božič\, "Some electrostatics of proteins and capsids"
DESCRIPTION:https://indico.ijs.si/event/3107/
URL:https://web-f1.ijs.si/event/veronika-bukina-tba-3/
LOCATION:A/1-106 – Seminarska soba fizike (F5) (Jamova)
END:VEVENT
END:VCALENDAR