BEGIN:VCALENDAR
VERSION:2.0
PRODID:-//Department of Theoretical Physics - ECPv6.5.1.5//NONSGML v1.0//EN
CALSCALE:GREGORIAN
METHOD:PUBLISH
X-ORIGINAL-URL:https://web-f1.ijs.si
X-WR-CALDESC:Events for Department of Theoretical Physics
REFRESH-INTERVAL;VALUE=DURATION:PT1H
X-Robots-Tag:noindex
X-PUBLISHED-TTL:PT1H
BEGIN:VTIMEZONE
TZID:Europe/Ljubljana
BEGIN:DAYLIGHT
TZOFFSETFROM:+0100
TZOFFSETTO:+0200
TZNAME:CEST
DTSTART:20260329T010000
END:DAYLIGHT
BEGIN:STANDARD
TZOFFSETFROM:+0200
TZOFFSETTO:+0100
TZNAME:CET
DTSTART:20261025T010000
END:STANDARD
END:VTIMEZONE
BEGIN:VEVENT
DTSTART;TZID=Europe/Ljubljana:20260305T110000
DTEND;TZID=Europe/Ljubljana:20260305T120000
DTSTAMP:20260422T015143
CREATED:20260303T103839Z
LAST-MODIFIED:20260305T103720Z
UID:89438-1772708400-1772712000@web-f1.ijs.si
SUMMARY:Fabrizio Nesti: A ghost story
DESCRIPTION:https://indico.ijs.si/event/3697/
URL:https://web-f1.ijs.si/event/fabrizio-nesti-a-ghost-story/
LOCATION:F1 tea room
END:VEVENT
END:VCALENDAR