BEGIN:VCALENDAR
VERSION:2.0
PRODID:-//Department of Theoretical Physics - ECPv6.5.1.5//NONSGML v1.0//EN
CALSCALE:GREGORIAN
METHOD:PUBLISH
X-ORIGINAL-URL:https://web-f1.ijs.si
X-WR-CALDESC:Events for Department of Theoretical Physics
REFRESH-INTERVAL;VALUE=DURATION:PT1H
X-Robots-Tag:noindex
X-PUBLISHED-TTL:PT1H
BEGIN:VTIMEZONE
TZID:Europe/Ljubljana
BEGIN:DAYLIGHT
TZOFFSETFROM:+0100
TZOFFSETTO:+0200
TZNAME:CEST
DTSTART:20260329T010000
END:DAYLIGHT
BEGIN:STANDARD
TZOFFSETFROM:+0200
TZOFFSETTO:+0100
TZNAME:CET
DTSTART:20261025T010000
END:STANDARD
END:VTIMEZONE
BEGIN:VEVENT
DTSTART;TZID=Europe/Ljubljana:20260420T130000
DTEND;TZID=Europe/Ljubljana:20260420T140000
DTSTAMP:20260424T042900
CREATED:20260408T083531Z
LAST-MODIFIED:20260420T113955Z
UID:92829-1776690000-1776693600@web-f1.ijs.si
SUMMARY:Markus Miettinen\, "High-fidelity biomolecular modelling"
DESCRIPTION:https://indico.ijs.si/event/3733/
URL:https://web-f1.ijs.si/event/markus-miettinen-high-fidelity-biomolecular-modelling/
LOCATION:MPŠ Lecture Hall (Jamova)
END:VEVENT
END:VCALENDAR