BEGIN:VCALENDAR
VERSION:2.0
PRODID:-//Department of Theoretical Physics - ECPv6.5.1.5//NONSGML v1.0//EN
CALSCALE:GREGORIAN
METHOD:PUBLISH
X-WR-CALNAME:Department of Theoretical Physics
X-ORIGINAL-URL:https://web-f1.ijs.si
X-WR-CALDESC:Events for Department of Theoretical Physics
REFRESH-INTERVAL;VALUE=DURATION:PT1H
X-Robots-Tag:noindex
X-PUBLISHED-TTL:PT1H
BEGIN:VTIMEZONE
TZID:Europe/Ljubljana
BEGIN:DAYLIGHT
TZOFFSETFROM:+0100
TZOFFSETTO:+0200
TZNAME:CEST
DTSTART:20230326T010000
END:DAYLIGHT
BEGIN:STANDARD
TZOFFSETFROM:+0200
TZOFFSETTO:+0100
TZNAME:CET
DTSTART:20231029T010000
END:STANDARD
END:VTIMEZONE
BEGIN:VEVENT
DTSTART;TZID=Europe/Ljubljana:20230504T140000
DTEND;TZID=Europe/Ljubljana:20230504T150000
DTSTAMP:20260426T044753
CREATED:20230203T001411Z
LAST-MODIFIED:20230313T132038Z
UID:8376-1683208800-1683212400@web-f1.ijs.si
SUMMARY:Ben Stefanek
DESCRIPTION:https://indico.ijs.si/event/1609/
URL:https://web-f1.ijs.si/event/ben-stefanek/
LOCATION:https://zoom.us/j/3601731049?pwd=bVNQRjUxU2ExZ0cveWcxYXNUUGdjZz09 (Zoom)
END:VEVENT
BEGIN:VEVENT
DTSTART;TZID=Europe/Ljubljana:20230511T140000
DTEND;TZID=Europe/Ljubljana:20230511T150000
DTSTAMP:20260426T044753
CREATED:20230313T132038Z
LAST-MODIFIED:20230313T132038Z
UID:8495-1683813600-1683817200@web-f1.ijs.si
SUMMARY:Elena Santopinto: TBA
DESCRIPTION: TBA\nhttps://indico.ijs.si/event/1595/
URL:https://web-f1.ijs.si/event/elena-santopinto-tba/
LOCATION:https://zoom.us/j/3601731049?pwd=bVNQRjUxU2ExZ0cveWcxYXNUUGdjZz09 (Zoom)
END:VEVENT
BEGIN:VEVENT
DTSTART;TZID=Europe/Ljubljana:20230518T140000
DTEND;TZID=Europe/Ljubljana:20230518T150000
DTSTAMP:20260426T044753
CREATED:20230105T095342Z
LAST-MODIFIED:20230518T123341Z
UID:7498-1684418400-1684422000@web-f1.ijs.si
SUMMARY:Jonathan Kriewald: Heavy Neutrino effects on leptonic Higgs\, $W$ and $Z$ decays in the inverse seesaw
DESCRIPTION:In addition to their role in well-motivated mechanisms of neutrino mass generation\, heavy neutral leptons (HNL) can be at the source of an extensive array of new phenomena\, which are forbidden (or strongly suppressed) in the Standard Model (SM)\, several manifesting the possible Majorana nature of the extended neutral lepton sector. \nThese phenomena include lepton number violating (LNV) processes such as (semi) leptonic tau and meson decays\, charged lepton flavour violating (cLFV) transitions (including radiative and three-body decays\, $Z$ and Higgs bosons decays\, as well as rare phenomena in the presence of matter). \nSuch heavy Majorana fermions are also expected to have a significant \nimpact concerning electroweak (EW) precision observables\, and also lead to striking signatures at colliders (be it the LHC\, or future lepton colliders). All the above new phenomena are rooted in the non-negligible mixings of the heavy Majorana states with the light active neutrinos\, which in turn is responsible for modifying the flavour mixings in the lepton sector.\nWithin the framework of the inverse seesaw mechanism\, we calculate the electroweak corrections to leptonic Higgs\, $W$ and $Z$ decays\, which are modified due to the presence of HNL in the loop diagrams.\nIn certain regions of the currently viable parameter space significant deviations from the SM predictions can be observed.\nIn view of the anticipated increased precision of experimental measurements of these decay modes at future $Z$ factories (such as FCC-ee)\, precision measurements of leptonic Higgs\, $W$ and $Z$ decays can lead to complementary constraints on seesaw-like neutrino mass models.\nhttps://indico.ijs.si/event/1597/
URL:https://web-f1.ijs.si/event/jonathan-kriewald-tba-2/
LOCATION:https://zoom.us/j/3601731049?pwd=bVNQRjUxU2ExZ0cveWcxYXNUUGdjZz09 (Zoom)
END:VEVENT
BEGIN:VEVENT
DTSTART;TZID=Europe/Ljubljana:20230518T140000
DTEND;TZID=Europe/Ljubljana:20230518T150000
DTSTAMP:20260426T044753
CREATED:20230515T105656Z
LAST-MODIFIED:20230518T123341Z
UID:8601-1684418400-1684422000@web-f1.ijs.si
SUMMARY:Urška Andrenšek: "On the importance of thickness modulation in epithelial tissues"
DESCRIPTION:https://indico.ijs.si/event/1642/
URL:https://web-f1.ijs.si/event/urska-andrensek-on-the-importance-of-thickness-modulation-in-epithelial-tissues/
LOCATION:Seminar room of physics (106) (IJS)
END:VEVENT
BEGIN:VEVENT
DTSTART;TZID=Europe/Ljubljana:20230524T140000
DTEND;TZID=Europe/Ljubljana:20230524T150000
DTSTAMP:20260426T044754
CREATED:20230515T105656Z
LAST-MODIFIED:20230524T123246Z
UID:8603-1684936800-1684940400@web-f1.ijs.si
SUMMARY:Horacio Guzman: RNA fragment adsorption onto membranous surfaces of Lipid Nanoparticles"
DESCRIPTION:Lipid nanoparticles (LNPs) are promising delivery tools for mRNAs vaccines due to their ability to protect and carry mRNA to target cells. However\, designing effective LNPs for mRNA delivery systems remains a challenge due to a lack of understanding of structure–activity relationships onto the membranous surfaces\, which are lipid dependent\, among other environment conditions(ions and pH). Here we present the influence of the membrane composition on the adsorption and stability of the RNA molecules. Our extensive analysis points out key design rules for predicting the interaction of RNA and membrane surfaces and their implications on ensembles stability.\nhttps://indico.ijs.si/event/1640/
URL:https://web-f1.ijs.si/event/horacio-guzman-rna-fragment-adsorption-onto-membranous-surfaces-of-lipid-nanoparticles/
LOCATION:Z9/0-0 – F1 čajnica (Jamova)
END:VEVENT
BEGIN:VEVENT
DTSTART;TZID=Europe/Ljubljana:20230525T140000
DTEND;TZID=Europe/Ljubljana:20230525T150000
DTSTAMP:20260426T044754
CREATED:20230313T132038Z
LAST-MODIFIED:20230525T124901Z
UID:8496-1685023200-1685026800@web-f1.ijs.si
SUMMARY:Pietro Baratella: Thermodynamics from scattering data
DESCRIPTION:In this seminar I will present a method for expressing thermodynamic quantities in terms of scattering amplitudes. After reviewing the classical derivation by Dashen\, Ma and Bernstein\, I will provide several checks of the method at leading order. The systematic inclusion of higher-order effects is then discussed\, with emphasis on their natural organization in terms of a virial expansion. I will then compare the method to other existing ones and consider possible applications.\nhttps://indico.ijs.si/event/1614/
URL:https://web-f1.ijs.si/event/pietro-baratella/
LOCATION:https://zoom.us/j/3601731049?pwd=bVNQRjUxU2ExZ0cveWcxYXNUUGdjZz09 (F1 tea room)
END:VEVENT
BEGIN:VEVENT
DTSTART;TZID=Europe/Ljubljana:20230525T140000
DTEND;TZID=Europe/Ljubljana:20230525T153000
DTSTAMP:20260426T044754
CREATED:20230515T105656Z
LAST-MODIFIED:20230525T124901Z
UID:8605-1685023200-1685028600@web-f1.ijs.si
SUMMARY:Fran Ivan Vrban: "Photon-photon scattering under Lorentz invariance violation"
DESCRIPTION:https://indico.ijs.si/event/1677/
URL:https://web-f1.ijs.si/event/fran-ivan-vrban-photon-photon-scattering-under-lorentz-invariance-violation/
LOCATION:Seminar room of physics (106) (IJS)
END:VEVENT
END:VCALENDAR