BEGIN:VCALENDAR
VERSION:2.0
PRODID:-//Department of Theoretical Physics - ECPv6.5.1.5//NONSGML v1.0//EN
CALSCALE:GREGORIAN
METHOD:PUBLISH
X-WR-CALNAME:Department of Theoretical Physics
X-ORIGINAL-URL:https://web-f1.ijs.si
X-WR-CALDESC:Events for Department of Theoretical Physics
REFRESH-INTERVAL;VALUE=DURATION:PT1H
X-Robots-Tag:noindex
X-PUBLISHED-TTL:PT1H
BEGIN:VTIMEZONE
TZID:Europe/Ljubljana
BEGIN:DAYLIGHT
TZOFFSETFROM:+0100
TZOFFSETTO:+0200
TZNAME:CEST
DTSTART:20230326T010000
END:DAYLIGHT
BEGIN:STANDARD
TZOFFSETFROM:+0200
TZOFFSETTO:+0100
TZNAME:CET
DTSTART:20231029T010000
END:STANDARD
END:VTIMEZONE
BEGIN:VEVENT
DTSTART;TZID=Europe/Ljubljana:20231109T140000
DTEND;TZID=Europe/Ljubljana:20231109T150000
DTSTAMP:20260425T050919
CREATED:20231006T100904Z
LAST-MODIFIED:20231109T134503Z
UID:15405-1699538400-1699542000@web-f1.ijs.si
SUMMARY:Biophysics Journal Club: Marin Šako\, "Industrial applications of cavitation"
DESCRIPTION:https://indico.ijs.si/event/1807/
URL:https://web-f1.ijs.si/event/biophysics-journal-club-marin-sako-industrial-applications-of-cavitation-2/
LOCATION:C/0-106 – Seminarska soba fizike (F5) (Jamova)
END:VEVENT
BEGIN:VEVENT
DTSTART;TZID=Europe/Ljubljana:20231116T140000
DTEND;TZID=Europe/Ljubljana:20231116T150000
DTSTAMP:20260425T050919
CREATED:20231030T204049Z
LAST-MODIFIED:20231116T142930Z
UID:16240-1700143200-1700146800@web-f1.ijs.si
SUMMARY:Anže Božič\, "Towards improved simple models of electrostatic interactions in patchy colloids and proteins"
DESCRIPTION:https://indico.ijs.si/event/1832/
URL:https://web-f1.ijs.si/event/anze-bozic-towards-improved-simple-models-of-electrostatic-interactions-between-patchy-colloids-and-proteins/
LOCATION:C/2-X – F1 čajnica (Jamova)
END:VEVENT
BEGIN:VEVENT
DTSTART;TZID=Europe/Ljubljana:20231123T141500
DTEND;TZID=Europe/Ljubljana:20231123T151500
DTSTAMP:20260425T050919
CREATED:20231030T204050Z
LAST-MODIFIED:20231123T135354Z
UID:16241-1700748900-1700752500@web-f1.ijs.si
SUMMARY:Matej Kanduč\, "The enigmatic boundary between hydrophilic and hydrophobic"
DESCRIPTION:Hydrophobic attraction\, macromolecule adhesion\, and even biofouling occur when the surface contact angle exceeds 65°\, known as the “Berg limit.” While this threshold seems widely applicable\, the reasons behind its universality remain unclear. In the seminar\, I will discuss our current knowledge of this threshold and explore possible underlying mechanisms.\nhttps://indico.ijs.si/event/1833/
URL:https://web-f1.ijs.si/event/matej-kanduc-tba/
LOCATION:C/0-106 – Seminarska soba fizike (F5) (Jamova)
END:VEVENT
END:VCALENDAR