BEGIN:VCALENDAR
VERSION:2.0
PRODID:-//Department of Theoretical Physics - ECPv6.5.1.5//NONSGML v1.0//EN
CALSCALE:GREGORIAN
METHOD:PUBLISH
X-ORIGINAL-URL:https://web-f1.ijs.si
X-WR-CALDESC:Events for Department of Theoretical Physics
REFRESH-INTERVAL;VALUE=DURATION:PT1H
X-Robots-Tag:noindex
X-PUBLISHED-TTL:PT1H
BEGIN:VTIMEZONE
TZID:Europe/Ljubljana
BEGIN:DAYLIGHT
TZOFFSETFROM:+0100
TZOFFSETTO:+0200
TZNAME:CEST
DTSTART:20230326T010000
END:DAYLIGHT
BEGIN:STANDARD
TZOFFSETFROM:+0200
TZOFFSETTO:+0100
TZNAME:CET
DTSTART:20231029T010000
END:STANDARD
END:VTIMEZONE
BEGIN:VEVENT
DTSTART;TZID=Europe/Ljubljana:20231207T140000
DTEND;TZID=Europe/Ljubljana:20231207T150000
DTSTAMP:20260425T033444
CREATED:20231201T113522Z
LAST-MODIFIED:20231207T135528Z
UID:17359-1701957600-1701961200@web-f1.ijs.si
SUMMARY:XBW preparation
DESCRIPTION:Vita Movrin\, “Active dynamics of wound closure”Urban Zeleznik\, “Topological Transformations in Graph Vertex Model”Marin Sako\, “Tensile strength of water with organic impurities”\nhttps://indico.ijs.si/event/1872/
URL:https://web-f1.ijs.si/event/xbw-preparation/
LOCATION:C/0-106 – Seminarska soba fizike (F5) (Jamova)
END:VEVENT
BEGIN:VEVENT
DTSTART;TZID=Europe/Ljubljana:20231214T140000
DTEND;TZID=Europe/Ljubljana:20231214T153000
DTSTAMP:20260425T033444
CREATED:20230918T095350Z
LAST-MODIFIED:20231214T133710Z
UID:14795-1702562400-1702567800@web-f1.ijs.si
SUMMARY:"Understanding bacterial inactivation with cavitation at the single cell level"
DESCRIPTION:Speakers: Žiga Pandur (Faculty of Mechanical Engineering)\nCavitation\, a sudden decrease in pressure that triggers the formation of vapor and gas bubbles in a liquid medium\, can cause many important industrial problems\, such as material loss\, noise and vibrations in hydraulic machinery. On the other hand\, due to the extreme conditions during growth and collapse of vapor bubbles\, cavitation can be a potentially useful phenomenon. for surface cleaning\, chemical enhancement and wastewater treatment (i.e. bacterial eradication and virus inactivation). Despite extensive research in recent years\, there is still a large gap between understanding the mechanisms that contribute to the effects of cavitation and its application. Although engineers have already commercialized devices that use cavitation\, we are still not able to answer the fundamental questions\, such as how bubbles increase chemical activity disinfect\, clean\, and how they affect bacterial cells.In this work we have investigated the effects of cavitation on simple cell model systems–and compared it with other known chemical\, physical and mechanical stress factors. We showed that the fragile but compliant structure of the lipid bilayer is effectively destroyed by acoustic or hydrodynamic cavitation. We have investigated how different modifications of the cell wall of Gram-negative bacteria (Escherichia coli) affect cell stability during sonication and found that peptidoglycan layer modifications significantly increase susceptibility to sonolysis. To investigate the interaction between individual cavitation bubble and bacterial cell\, we have developed a new method to generate single micrometer size cavitation bubble. The combination of optical tweezers and high-voltage discharge allowed us to generate cavitation microbubbles precisely in space and time. At the center of the imploding microbubble\, the cells get detached\, followed by the area of damaged cells. The results indicate that only the cells in the immediate vicinity of the collapsing bubble were affected. The numerical model of bubble collapse allowed us to determine the threshold values of hydrodynamic forces and wall shear stress for cell detachment and cell death.Quantifying mechanical stability response of bacteria to high-frequency perturbations reveals the mechanisms behind the cleaning effects of cavitation\, and also provides a unique tool to characterize the high-frequency mechanical stress response of different biological materials. Our work contributes to a better understanding of the effects of cavitation on bacterial cells and promotes further development of cavitation applications to remove or eradicate bacteria.\nhttps://indico.ijs.si/event/1777/
URL:https://web-f1.ijs.si/event/ziga-pandur-tba/
LOCATION:Seminar room of physics (106) (IJS)
END:VEVENT
BEGIN:VEVENT
DTSTART;TZID=Europe/Ljubljana:20231221T140000
DTEND;TZID=Europe/Ljubljana:20231221T150000
DTSTAMP:20260425T033445
CREATED:20231030T204050Z
LAST-MODIFIED:20231221T135436Z
UID:16242-1703167200-1703170800@web-f1.ijs.si
SUMMARY:Biophysics Journal Club: Tanmoy Sarkar\, "Inclusion of adaptive tension and strain in vertex model"
DESCRIPTION:https://indico.ijs.si/event/1834/
URL:https://web-f1.ijs.si/event/tanmoy-sarkar-tba-2/
LOCATION:C/2-X – F1 čajnica (Jamova)
END:VEVENT
END:VCALENDAR