BEGIN:VCALENDAR
VERSION:2.0
PRODID:-//Department of Theoretical Physics - ECPv6.5.1.5//NONSGML v1.0//EN
CALSCALE:GREGORIAN
METHOD:PUBLISH
X-WR-CALNAME:Department of Theoretical Physics
X-ORIGINAL-URL:https://web-f1.ijs.si
X-WR-CALDESC:Events for Department of Theoretical Physics
REFRESH-INTERVAL;VALUE=DURATION:PT1H
X-Robots-Tag:noindex
X-PUBLISHED-TTL:PT1H
BEGIN:VTIMEZONE
TZID:Europe/Ljubljana
BEGIN:DAYLIGHT
TZOFFSETFROM:+0100
TZOFFSETTO:+0200
TZNAME:CEST
DTSTART:20240331T010000
END:DAYLIGHT
BEGIN:STANDARD
TZOFFSETFROM:+0200
TZOFFSETTO:+0100
TZNAME:CET
DTSTART:20241027T010000
END:STANDARD
END:VTIMEZONE
BEGIN:VEVENT
DTSTART;TZID=Europe/Ljubljana:20240111T141500
DTEND;TZID=Europe/Ljubljana:20240111T151500
DTSTAMP:20260425T020610
CREATED:20231013T014224Z
LAST-MODIFIED:20240111T140947Z
UID:15598-1704982500-1704986100@web-f1.ijs.si
SUMMARY:"Studies of bees with smart sensors: at the crossroads of biology\, physics\, and AI"
DESCRIPTION:Speakers: Anton Gradišek (Jožef Stefan Institute)\nHoneybees and bumblebees are social insects and are among the most important pollinators in their ecosystems. They are fascinating creatures and even if we think that we know them well\, there is still much to discover about their lives. In the seminar\, I will present an overview of the studies we carried out especially in the field of bumblebee research. We used several sensors\, especially microphones and thermometers\, to investigate the daily dynamics of the colony. At the end\, I will outline the current project we are working on\, we will be using smart sensors to monitor stress on honeybee colonies in the presence of external stressors.\nhttps://indico.ijs.si/event/1770/
URL:https://web-f1.ijs.si/event/anton-gradisek-tba/
LOCATION:Seminar room of physics (106) (IJS)
END:VEVENT
BEGIN:VEVENT
DTSTART;TZID=Europe/Ljubljana:20240125T140000
DTEND;TZID=Europe/Ljubljana:20240125T150000
DTSTAMP:20260425T020610
CREATED:20231201T113522Z
LAST-MODIFIED:20240125T134550Z
UID:17360-1706191200-1706194800@web-f1.ijs.si
SUMMARY:Jules Morand\, "Emergent circulation patterns from anonymized mobility data: Clustering Italy in the time of Covid"
DESCRIPTION:Speakers: Jules Morand (Department of Physics\, University of Trento)\nhttps://indico.ijs.si/event/1873/
URL:https://web-f1.ijs.si/event/jules-morand-emergent-circulation-patterns-from-anonymized-mobility-data-clustering-italy-in-the-time-of-covid/
LOCATION:C/0-106 – Seminarska soba fizike (F5) (Jamova)
END:VEVENT
END:VCALENDAR