BEGIN:VCALENDAR
VERSION:2.0
PRODID:-//Department of Theoretical Physics - ECPv6.5.1.5//NONSGML v1.0//EN
CALSCALE:GREGORIAN
METHOD:PUBLISH
X-WR-CALNAME:Department of Theoretical Physics
X-ORIGINAL-URL:https://web-f1.ijs.si
X-WR-CALDESC:Events for Department of Theoretical Physics
REFRESH-INTERVAL;VALUE=DURATION:PT1H
X-Robots-Tag:noindex
X-PUBLISHED-TTL:PT1H
BEGIN:VTIMEZONE
TZID:Europe/Ljubljana
BEGIN:DAYLIGHT
TZOFFSETFROM:+0100
TZOFFSETTO:+0200
TZNAME:CEST
DTSTART:20240331T010000
END:DAYLIGHT
BEGIN:STANDARD
TZOFFSETFROM:+0200
TZOFFSETTO:+0100
TZNAME:CET
DTSTART:20241027T010000
END:STANDARD
END:VTIMEZONE
BEGIN:VEVENT
DTSTART;TZID=Europe/Ljubljana:20240404T140000
DTEND;TZID=Europe/Ljubljana:20240404T150000
DTSTAMP:20260424T181328
CREATED:20240323T012943Z
LAST-MODIFIED:20240404T125047Z
UID:22114-1712239200-1712242800@web-f1.ijs.si
SUMMARY:Fabio Staniscia\, "Line adsorption in sessile droplets"
DESCRIPTION:https://indico.ijs.si/event/2075/
URL:https://web-f1.ijs.si/event/fabio-staniscia-tba-2/
LOCATION:C/0-106 – Seminarska soba fizike (F5) (Jamova)
END:VEVENT
BEGIN:VEVENT
DTSTART;TZID=Europe/Ljubljana:20240411T141500
DTEND;TZID=Europe/Ljubljana:20240411T151500
DTSTAMP:20260424T181328
CREATED:20240112T004541Z
LAST-MODIFIED:20240411T130106Z
UID:18958-1712844900-1712848500@web-f1.ijs.si
SUMMARY:Boštjan Vihar\, "Developing in vitro models of human tissues"
DESCRIPTION:Speakers: Boštjan Vihar (IBV MF UM)\nThe presentation will establish basic concepts of tissue engineering\, 3D biofabrication and the development of microphysiological systems\, and provide insight into some of the work in progress at the Institute of Biomedical Sciences\, Faculty of Medicine\, University of Maribor (IBV).The development of advanced in vitro models of human tissues stands at the forefront of advancing medical sciences by developing innovative solutions to complex health issues and requires an interdisciplinary approach combining different fields such as cell and molecular biology\, biochemistry\, materials science\, additive technologies. The development process can vary substantially depending on the target tissue/application and the expected functional characteristics.At IBV different aspects of in vitro tissue model development are explored in parallel and in synergy in the hopes of obtaining new insights into the (patho)physiology of human tissues and organs and creating new ways for the treatment of complex diseases and personalized medicine.Our research activities include the cell culture of immortalized and primary cell lines\, which are also isolated and characterization in-house. In parallel\, polymer-based hydrogel formulations are developed to mimic the physico-chemical properties of native tissues and are combined with cells to form bioinks. Using extrusion-based\, microfluidics and lithographic 3D printing techniques\, tissue scaffolds and custom-made microfluidic devices are developed and integrated into microphysiological systems (organ-on-a-chip devices) which allow prolonged maturation\, continuous monitoring and functional analysis.\nhttps://indico.ijs.si/event/1866/
URL:https://web-f1.ijs.si/event/bostjan-vihar-tba/
LOCATION:Seminar room of physics (106) (IJS)
END:VEVENT
BEGIN:VEVENT
DTSTART;TZID=Europe/Ljubljana:20240418T140000
DTEND;TZID=Europe/Ljubljana:20240418T150000
DTSTAMP:20260424T181328
CREATED:20240323T012943Z
LAST-MODIFIED:20240408T075553Z
UID:22115-1713448800-1713452400@web-f1.ijs.si
SUMMARY:Labrini Athanasopoulou (TBA)
DESCRIPTION:https://indico.ijs.si/event/2076/
URL:https://web-f1.ijs.si/event/labrini-athanasopoulou-tba/
LOCATION:C/0-106 – Seminarska soba fizike (F5) (Jamova)
END:VEVENT
END:VCALENDAR