BEGIN:VCALENDAR
VERSION:2.0
PRODID:-//Department of Theoretical Physics - ECPv6.5.1.5//NONSGML v1.0//EN
CALSCALE:GREGORIAN
METHOD:PUBLISH
X-WR-CALNAME:Department of Theoretical Physics
X-ORIGINAL-URL:https://web-f1.ijs.si
X-WR-CALDESC:Events for Department of Theoretical Physics
REFRESH-INTERVAL;VALUE=DURATION:PT1H
X-Robots-Tag:noindex
X-PUBLISHED-TTL:PT1H
BEGIN:VTIMEZONE
TZID:Europe/Ljubljana
BEGIN:DAYLIGHT
TZOFFSETFROM:+0100
TZOFFSETTO:+0200
TZNAME:CEST
DTSTART:20240331T010000
END:DAYLIGHT
BEGIN:STANDARD
TZOFFSETFROM:+0200
TZOFFSETTO:+0100
TZNAME:CET
DTSTART:20241027T010000
END:STANDARD
END:VTIMEZONE
BEGIN:VEVENT
DTSTART;TZID=Europe/Ljubljana:20240711T140000
DTEND;TZID=Europe/Ljubljana:20240711T150000
DTSTAMP:20260423T195602
CREATED:20240701T133914Z
LAST-MODIFIED:20240711T113240Z
UID:30991-1720706400-1720710000@web-f1.ijs.si
SUMMARY:Luighi Leal: Correlating $0 ubetabeta$ decays and flavor observables in leptoquark models
DESCRIPTION:https://indico.ijs.si/event/2231/
URL:https://web-f1.ijs.si/event/luighi-leal-correlating-0-ubetabeta-decays-and-flavor-observables-in-leptoquark-models/
LOCATION:https://zoom.us/j/3601731049?pwd=bVNQRjUxU2ExZ0cveWcxYXNUUGdjZz09 (F1 tea room)
END:VEVENT
END:VCALENDAR