BEGIN:VCALENDAR
VERSION:2.0
PRODID:-//Department of Theoretical Physics - ECPv6.5.1.5//NONSGML v1.0//EN
CALSCALE:GREGORIAN
METHOD:PUBLISH
X-WR-CALNAME:Department of Theoretical Physics
X-ORIGINAL-URL:https://web-f1.ijs.si
X-WR-CALDESC:Events for Department of Theoretical Physics
REFRESH-INTERVAL;VALUE=DURATION:PT1H
X-Robots-Tag:noindex
X-PUBLISHED-TTL:PT1H
BEGIN:VTIMEZONE
TZID:Europe/Ljubljana
BEGIN:DAYLIGHT
TZOFFSETFROM:+0100
TZOFFSETTO:+0200
TZNAME:CEST
DTSTART:20240331T010000
END:DAYLIGHT
BEGIN:STANDARD
TZOFFSETFROM:+0200
TZOFFSETTO:+0100
TZNAME:CET
DTSTART:20241027T010000
END:STANDARD
END:VTIMEZONE
BEGIN:VEVENT
DTSTART;TZID=Europe/Ljubljana:20241205T140000
DTEND;TZID=Europe/Ljubljana:20241205T150000
DTSTAMP:20260423T131332
CREATED:20241028T140343Z
LAST-MODIFIED:20241205T135821Z
UID:42206-1733407200-1733410800@web-f1.ijs.si
SUMMARY:Primož Ziherl\, "Intrinsic curvature of lipids"
DESCRIPTION:https://indico.ijs.si/event/2476/
URL:https://web-f1.ijs.si/event/primoz-ziherl-intrinsic-curvature-of-lipids/
LOCATION:A/1-106 – Seminarska soba fizike (F5) (Jamova)
END:VEVENT
BEGIN:VEVENT
DTSTART;TZID=Europe/Ljubljana:20241212T140000
DTEND;TZID=Europe/Ljubljana:20241212T150000
DTSTAMP:20260423T131332
CREATED:20241127T130026Z
LAST-MODIFIED:20241212T135224Z
UID:44977-1734012000-1734015600@web-f1.ijs.si
SUMMARY:XBW rehearsal
DESCRIPTION:Speakers:Fran Ivan VrbanVeronika BukinaMarin Šako\nhttps://indico.ijs.si/event/2562/
URL:https://web-f1.ijs.si/event/xbw-rehearsal/
LOCATION:A/1-106 – Seminarska soba fizike (F5) (Jamova)
END:VEVENT
END:VCALENDAR